BEGIN:VCALENDAR
VERSION:2.0
PRODID:-//PASEF - ECPv6.15.17.1//NONSGML v1.0//EN
CALSCALE:GREGORIAN
METHOD:PUBLISH
X-ORIGINAL-URL:https://pasef.provost.upenn.edu
X-WR-CALDESC:Events for PASEF
REFRESH-INTERVAL;VALUE=DURATION:PT1H
X-Robots-Tag:noindex
X-PUBLISHED-TTL:PT1H
BEGIN:VTIMEZONE
TZID:America/New_York
BEGIN:DAYLIGHT
TZOFFSETFROM:-0500
TZOFFSETTO:-0400
TZNAME:EDT
DTSTART:20250309T070000
END:DAYLIGHT
BEGIN:STANDARD
TZOFFSETFROM:-0400
TZOFFSETTO:-0500
TZNAME:EST
DTSTART:20251102T060000
END:STANDARD
BEGIN:DAYLIGHT
TZOFFSETFROM:-0500
TZOFFSETTO:-0400
TZNAME:EDT
DTSTART:20260308T070000
END:DAYLIGHT
BEGIN:STANDARD
TZOFFSETFROM:-0400
TZOFFSETTO:-0500
TZNAME:EST
DTSTART:20261101T060000
END:STANDARD
BEGIN:DAYLIGHT
TZOFFSETFROM:-0500
TZOFFSETTO:-0400
TZNAME:EDT
DTSTART:20270314T070000
END:DAYLIGHT
BEGIN:STANDARD
TZOFFSETFROM:-0400
TZOFFSETTO:-0500
TZNAME:EST
DTSTART:20271107T060000
END:STANDARD
END:VTIMEZONE
BEGIN:VEVENT
DTSTART;TZID=America/New_York:20260421T120000
DTEND;TZID=America/New_York:20260421T130000
DTSTAMP:20260419T105504
CREATED:20260210T141505Z
LAST-MODIFIED:20260210T141508Z
UID:3609-1776772800-1776776400@pasef.provost.upenn.edu
SUMMARY:Joseph Baur\, Can human lifespan be extended?
DESCRIPTION:Register\n\n\n\n\nJoin us for a “bring your own brown bag lunch” lecture in the McNeil Building or on Zoom. \n\n\n\n \n\n\n\nMultiple interventions have been shown to increase lifespan in short-lived laboratory models. But will this hold true in humans? This talk will examine some of the data that have been used to argue for and against the idea that lifespan can be improved.
URL:https://pasef.provost.upenn.edu/event/joseph-baur-can-human-lifespan-be-extended/
LOCATION:McNeil Building\, Room 403 (3718 Locust Walk)
CATEGORIES:Zoom Session,In-Person Event
ATTACH;FMTTYPE=image/jpeg:https://pasef.provost.upenn.edu/wp-content/uploads/Greenland-Shark-250-300-years.jpg
END:VEVENT
BEGIN:VEVENT
DTSTART;TZID=America/New_York:20260504T160000
DTEND;TZID=America/New_York:20260504T180000
DTSTAMP:20260419T105504
CREATED:20260206T142515Z
LAST-MODIFIED:20260206T142518Z
UID:3605-1777910400-1777917600@pasef.provost.upenn.edu
SUMMARY:2026 Newly Retired and Emeritus Faculty Celebration 
DESCRIPTION:
URL:https://pasef.provost.upenn.edu/event/2026-newly-retired-and-emeritus-faculty-celebration/
LOCATION:Jordan Medical Education Center Atrium\, 3400 Civic Center Blvd.\, Philadelphia\, Pennsylvania
CATEGORIES:Zoom Session,In-Person Event
ATTACH;FMTTYPE=image/png:https://pasef.provost.upenn.edu/wp-content/uploads/Screenshot-2026-01-30-at-3.27.59-PM.png
END:VEVENT
BEGIN:VEVENT
DTSTART;TZID=America/New_York:20260505T133000
DTEND;TZID=America/New_York:20260505T133000
DTSTAMP:20260419T105504
CREATED:20260317T185716Z
LAST-MODIFIED:20260317T185719Z
UID:3666-1777987800-1777987800@pasef.provost.upenn.edu
SUMMARY:John Heinz National Wildlife Refuge at Tinicum
DESCRIPTION:Register\n\n\n\n\n\n\nWith over 300 bird species detected at Heinz National Wildlife Refuge\, located in the city of Philadelphia\, this refuge has the second largest list of bird species for any area in the state of Pennsylvania. As a result\, this site is one of the most popular birding hotspots in Philadelphia. On May 5th 2026 we will explore some of what Heinz has to offer with a walk on the trails\, along the impoundment and in warbler woods. This is peak migration time and if we are lucky and have optimal conditions we could hear and see between 50-75 species of birds on a walk. Expect to walk between 1 and 1.5 miles over 2-2.5 hours. Wear comfortable shoes\, bring water and snacks and a good pair of binoculars or a camera with a telephoto lens. \n\n\n\nPlease use this link\, https://maps.app.goo.gl/1uXo3XGPu1ih2obo9 to navigate to the refuge and meet in the parking lot in front of the visitor’s center. \n\n\n\n\n\n\n\nPenn Libraries have Birdwatching Backpacks that can be borrowed with a PennKey and an active PennCard. \n\n\n\n\n\n\n\nThe Free Library of Philadelphia also has Birding Backpacks that can be borrowed.
URL:https://pasef.provost.upenn.edu/event/john-heinz-national-wildlife-refuge-at-tinicum/
CATEGORIES:In-Person Event
ATTACH;FMTTYPE=image/jpeg:https://pasef.provost.upenn.edu/wp-content/uploads/Blue-greyGnatcatcher_R51_3215_27April2025.jpg
END:VEVENT
BEGIN:VEVENT
DTSTART;TZID=America/New_York:20260512T153000
DTEND;TZID=America/New_York:20260512T163000
DTSTAMP:20260419T105504
CREATED:20260407T184003Z
LAST-MODIFIED:20260407T184005Z
UID:3694-1778599800-1778603400@pasef.provost.upenn.edu
SUMMARY:The Nuts & Bolts of Retirement
DESCRIPTION:Register\n\n\n\n\npractical advice for the transition to retirement \n\n\n\n \n\n\n\nModerated by PASEF PresidentMitch Marcus \n\n\n\nPanelists \n\n\n\nLaura W. Perna​Senior Vice Provost for Faculty​ \n\n\n\nErin Rossello​Director of Faculty Administration | PSOM​ \n\n\n\nSue Sproat Executive Director | HR – Benefits
URL:https://pasef.provost.upenn.edu/event/the-nuts-bolts-of-retirement/
CATEGORIES:Zoom Session
ATTACH;FMTTYPE=image/png:https://pasef.provost.upenn.edu/wp-content/uploads/Nuts-Bolts.png
END:VEVENT
END:VCALENDAR